BEGIN:VCALENDAR
VERSION:2.0
PRODID:-//Keystone Kops - ECPv6.15.20//NONSGML v1.0//EN
CALSCALE:GREGORIAN
METHOD:PUBLISH
X-ORIGINAL-URL:https://kops.egyptshriners.org
X-WR-CALDESC:Events for Keystone Kops
REFRESH-INTERVAL;VALUE=DURATION:PT1H
X-Robots-Tag:noindex
X-PUBLISHED-TTL:PT1H
BEGIN:VTIMEZONE
TZID:America/New_York
BEGIN:DAYLIGHT
TZOFFSETFROM:-0500
TZOFFSETTO:-0400
TZNAME:EDT
DTSTART:20200308T070000
END:DAYLIGHT
BEGIN:STANDARD
TZOFFSETFROM:-0400
TZOFFSETTO:-0500
TZNAME:EST
DTSTART:20201101T060000
END:STANDARD
BEGIN:DAYLIGHT
TZOFFSETFROM:-0500
TZOFFSETTO:-0400
TZNAME:EDT
DTSTART:20210314T070000
END:DAYLIGHT
BEGIN:STANDARD
TZOFFSETFROM:-0400
TZOFFSETTO:-0500
TZNAME:EST
DTSTART:20211107T060000
END:STANDARD
BEGIN:DAYLIGHT
TZOFFSETFROM:-0500
TZOFFSETTO:-0400
TZNAME:EDT
DTSTART:20220313T070000
END:DAYLIGHT
BEGIN:STANDARD
TZOFFSETFROM:-0400
TZOFFSETTO:-0500
TZNAME:EST
DTSTART:20221106T060000
END:STANDARD
BEGIN:DAYLIGHT
TZOFFSETFROM:-0500
TZOFFSETTO:-0400
TZNAME:EDT
DTSTART:20230312T070000
END:DAYLIGHT
BEGIN:STANDARD
TZOFFSETFROM:-0400
TZOFFSETTO:-0500
TZNAME:EST
DTSTART:20231105T060000
END:STANDARD
BEGIN:DAYLIGHT
TZOFFSETFROM:-0500
TZOFFSETTO:-0400
TZNAME:EDT
DTSTART:20240310T070000
END:DAYLIGHT
BEGIN:STANDARD
TZOFFSETFROM:-0400
TZOFFSETTO:-0500
TZNAME:EST
DTSTART:20241103T060000
END:STANDARD
BEGIN:DAYLIGHT
TZOFFSETFROM:-0500
TZOFFSETTO:-0400
TZNAME:EDT
DTSTART:20250309T070000
END:DAYLIGHT
BEGIN:STANDARD
TZOFFSETFROM:-0400
TZOFFSETTO:-0500
TZNAME:EST
DTSTART:20251102T060000
END:STANDARD
BEGIN:DAYLIGHT
TZOFFSETFROM:-0500
TZOFFSETTO:-0400
TZNAME:EDT
DTSTART:20260308T070000
END:DAYLIGHT
BEGIN:STANDARD
TZOFFSETFROM:-0400
TZOFFSETTO:-0500
TZNAME:EST
DTSTART:20261101T060000
END:STANDARD
END:VTIMEZONE
BEGIN:VEVENT
DTSTART;TZID=America/New_York:20251116T120000
DTEND;TZID=America/New_York:20251116T140000
DTSTAMP:20260420T090029
CREATED:20251031T014411Z
LAST-MODIFIED:20251031T015606Z
UID:11897-1763294400-1763301600@kops.egyptshriners.org
SUMMARY:2025 Keystone Kops TopGolf Koptoberfest (Part Deux)
DESCRIPTION:Buy your Tickets\nJoin the Keystone Kops for another round of fun at TopGolf Tampa for TopGolf Koptoberfest: Part Deux!\nIt’s an afternoon of golf\, food\, laughter\, and brotherhood—all for a great cause. \nEvent Details:\nDate: Sunday\, November 16\, 2025\nTime: 12:00 PM – 2:00 PM\nLocation: TopGolf Tampa\, 10690 Palm River Rd\, Tampa\, FL 33619\nTicket Price: $50 per person\nIncludes: Two hours of TopGolf play and heavy appetizers \nThere will also be a 50/50 raffle and plenty of fun as we take over the bays once again for our second annual Koptoberfest celebration. \nTicket Pickup:\nTickets will not be issued by TopGolf. They’ll be held at will-call for pickup at the event. A Keystone Kop representative will be on-site to check you in and provide your purchased tickets when you arrive. \nAbout the Keystone Kops:\nThe Keystone Kops of Egypt Shriners are a proud\, spirited unit dedicated to fun\, fellowship\, and supporting Shriners Hospitals for Children through laughter and good-natured mischief. \nNote: Proceeds benefit Egypt Shriners Keystone Kops activities. Payments are not deductible as charitable contributions. \n  \n  \n 
URL:https://kops.egyptshriners.org/event/2025-keystone-kops-topgolf-koptoberfest-part-deux/
LOCATION:TopGolf Tampa\, 10690 Palm River Rd.\, FL\, 33619\, United States
CATEGORIES:Social
ATTACH;FMTTYPE=image/webp:https://kops.egyptshriners.org/wp-content/uploads/2025/10/tgpd.webp
ORGANIZER;CN="Keystone Kops":MAILTO:kops@egyptshriners.org
END:VEVENT
BEGIN:VEVENT
DTSTART;TZID=America/New_York:20231021T130000
DTEND;TZID=America/New_York:20231021T150000
DTSTAMP:20260420T090029
CREATED:20230930T145933Z
LAST-MODIFIED:20231006T171535Z
UID:10923-1697893200-1697900400@kops.egyptshriners.org
SUMMARY:Kops Monthly Family Social
DESCRIPTION:
URL:https://kops.egyptshriners.org/event/kops-monthly-family-social-42/
LOCATION:Wrenchy’s\, 1307 E Trapnell Rd\, Plant City\, 33566-4929\, United States
CATEGORIES:Social
ATTACH;FMTTYPE=image/jpeg:https://kops.egyptshriners.org/wp-content/uploads/2021/07/Keystone-Kops-social.jpg
ORGANIZER;CN="Keystone Kops":MAILTO:kops@egyptshriners.org
END:VEVENT
BEGIN:VEVENT
DTSTART;TZID=America/New_York:20230624T180000
DTEND;TZID=America/New_York:20230624T220000
DTSTAMP:20260420T090029
CREATED:20230516T101433Z
LAST-MODIFIED:20230516T103422Z
UID:10730-1687629600-1687644000@kops.egyptshriners.org
SUMMARY:Prisoners Ball 2023
DESCRIPTION:Jailhouse Rock\nKeystone Kops Prisoners Ball 2023 \nJune 24th\, 2023 m Egypt Shrine Center • 6:00 – 10:00 PM\n$25 Per Person Includes: Admission\, Food\, and 2 Drinks\n50’s Style Clothing & Elvis Costumes are Encouraged!!
URL:https://kops.egyptshriners.org/event/prisoners-ball-2023/
LOCATION:Egypt Shrine Temple\, 5017 E Washington Street\, Tampa\, FL\, 33619\, United States
CATEGORIES:Party,Social
ORGANIZER;CN="Keystone Kops":MAILTO:kops@egyptshriners.org
END:VEVENT
BEGIN:VEVENT
DTSTART;TZID=America/New_York:20221218T130000
DTEND;TZID=America/New_York:20221218T150000
DTSTAMP:20260420T090029
CREATED:20220313T220752Z
LAST-MODIFIED:20220313T221153Z
UID:10056-1671368400-1671375600@kops.egyptshriners.org
SUMMARY:Kops Monthly Family Social
DESCRIPTION:
URL:https://kops.egyptshriners.org/event/kops-monthly-family-social-41/
LOCATION:Egypt Shrine Temple\, 5017 E Washington Street\, Tampa\, FL\, 33619\, United States
CATEGORIES:Social
ATTACH;FMTTYPE=image/jpeg:https://kops.egyptshriners.org/wp-content/uploads/2021/07/Keystone-Kops-social.jpg
ORGANIZER;CN="Keystone Kops":MAILTO:kops@egyptshriners.org
END:VEVENT
BEGIN:VEVENT
DTSTART;TZID=America/New_York:20221202T180000
DTEND;TZID=America/New_York:20221202T220000
DTSTAMP:20260420T090029
CREATED:20221109T210123Z
LAST-MODIFIED:20221121T174303Z
UID:10469-1670004000-1670018400@kops.egyptshriners.org
SUMMARY:Christmas Party
DESCRIPTION:We need each person to select which entrée and salad they would prefer.  Please “Tell Us You’re Coming” (above) to lock in your choice.\nMenu\nEntrée: Coco Coffee Charred Tenderloin OR Garlic Parmesan Chicken – both paired with Garlic Mashed Potatoes and Green Beans \nSalad:  Caesar OR House Salad \nDessert: Vanilla Crème Brûlée
URL:https://kops.egyptshriners.org/event/christmas-party-4/
LOCATION:Keystone Kops Unit Room\, 5017 E Washington Street\, Tampa\, FL\, 33619\, United States
CATEGORIES:Dinner,Party,Social
ATTACH;FMTTYPE=image/jpeg:https://kops.egyptshriners.org/wp-content/uploads/2021/12/christmstreesnow-2.jpg
ORGANIZER;CN="Keystone Kops":MAILTO:kops@egyptshriners.org
END:VEVENT
BEGIN:VEVENT
DTSTART;TZID=America/New_York:20221201T183000
DTEND;TZID=America/New_York:20221201T190000
DTSTAMP:20260420T090029
CREATED:20220313T220626Z
LAST-MODIFIED:20221109T210625Z
UID:10042-1669919400-1669921200@kops.egyptshriners.org
SUMMARY:Unit Meeting
DESCRIPTION:We are meeting at 6:30pm before the Whisky Tasting.  In regards to the whiskey tasting there is limited space and and the cost is $35 tickets of tickets available at the Oasis. Also wine tasting same night your ticket can be for whiskey or wine not both.
URL:https://kops.egyptshriners.org/event/unit-meeting-49/
LOCATION:Egypt Shrine Temple\, 5017 E Washington Street\, Tampa\, FL\, 33619\, United States
CATEGORIES:Meeting
ATTACH;FMTTYPE=image/jpeg:https://kops.egyptshriners.org/wp-content/uploads/2022/03/OIP.jpeg
ORGANIZER;CN="Keystone Kops":MAILTO:kops@egyptshriners.org
END:VEVENT
BEGIN:VEVENT
DTSTART;TZID=America/New_York:20221120T130000
DTEND;TZID=America/New_York:20221120T150000
DTSTAMP:20260420T090029
CREATED:20220313T220752Z
LAST-MODIFIED:20220313T221144Z
UID:10055-1668949200-1668956400@kops.egyptshriners.org
SUMMARY:Kops Monthly Family Social
DESCRIPTION:
URL:https://kops.egyptshriners.org/event/kops-monthly-family-social-40/
LOCATION:Egypt Shrine Temple\, 5017 E Washington Street\, Tampa\, FL\, 33619\, United States
CATEGORIES:Social
ATTACH;FMTTYPE=image/jpeg:https://kops.egyptshriners.org/wp-content/uploads/2021/07/Keystone-Kops-social.jpg
ORGANIZER;CN="Keystone Kops":MAILTO:kops@egyptshriners.org
END:VEVENT
BEGIN:VEVENT
DTSTART;TZID=America/New_York:20221103T193000
DTEND;TZID=America/New_York:20221103T210000
DTSTAMP:20260420T090029
CREATED:20220313T220626Z
LAST-MODIFIED:20220313T221633Z
UID:10041-1667503800-1667509200@kops.egyptshriners.org
SUMMARY:Unit Meeting
DESCRIPTION:
URL:https://kops.egyptshriners.org/event/unit-meeting-48/
LOCATION:Egypt Shrine Temple\, 5017 E Washington Street\, Tampa\, FL\, 33619\, United States
CATEGORIES:Meeting
ATTACH;FMTTYPE=image/jpeg:https://kops.egyptshriners.org/wp-content/uploads/2018/02/keystonekops-scaled.jpg
ORGANIZER;CN="Keystone Kops":MAILTO:kops@egyptshriners.org
END:VEVENT
BEGIN:VEVENT
DTSTART;TZID=America/New_York:20221016T130000
DTEND;TZID=America/New_York:20221016T150000
DTSTAMP:20260420T090029
CREATED:20220313T220752Z
LAST-MODIFIED:20220313T221135Z
UID:10054-1665925200-1665932400@kops.egyptshriners.org
SUMMARY:Kops Monthly Family Social
DESCRIPTION:
URL:https://kops.egyptshriners.org/event/kops-monthly-family-social-39/
LOCATION:Egypt Shrine Temple\, 5017 E Washington Street\, Tampa\, FL\, 33619\, United States
CATEGORIES:Social
ATTACH;FMTTYPE=image/jpeg:https://kops.egyptshriners.org/wp-content/uploads/2021/07/Keystone-Kops-social.jpg
ORGANIZER;CN="Keystone Kops":MAILTO:kops@egyptshriners.org
END:VEVENT
BEGIN:VEVENT
DTSTART;TZID=America/New_York:20221006T193000
DTEND;TZID=America/New_York:20221006T210000
DTSTAMP:20260420T090029
CREATED:20220313T220626Z
LAST-MODIFIED:20220313T221449Z
UID:10040-1665084600-1665090000@kops.egyptshriners.org
SUMMARY:Unit Meeting
DESCRIPTION:
URL:https://kops.egyptshriners.org/event/unit-meeting-47/
LOCATION:Egypt Shrine Temple\, 5017 E Washington Street\, Tampa\, FL\, 33619\, United States
CATEGORIES:Meeting
ATTACH;FMTTYPE=image/jpeg:https://kops.egyptshriners.org/wp-content/uploads/2018/02/keystonekops-scaled.jpg
ORGANIZER;CN="Keystone Kops":MAILTO:kops@egyptshriners.org
END:VEVENT
BEGIN:VEVENT
DTSTART;TZID=America/New_York:20221002T130000
DTEND;TZID=America/New_York:20221002T170000
DTSTAMP:20260420T090029
CREATED:20220908T121714Z
LAST-MODIFIED:20221001T021248Z
UID:10355-1664715600-1664730000@kops.egyptshriners.org
SUMMARY:KOP-TOBER-FEZ !
DESCRIPTION:Come to celebrate Family-Day with the Egypt Shrine Keystone Kops’ Kop-Tober-Fez. \nOnly $ 20.00 per adult. $ 10.00 for children 8-14 years old\, and children under 8 FREE !! \nWe will be serving Bratwurst and Italian Sausage. Includes all the sides\, Kops Ladies Devine Desserts\, and beverages (Water\, Iced Tea\, Lemonade\, Soda\, Beer). \nWe will have games for the kids\, Corn Hole\, and a 50/50 raffle. \n* Online orders will charge adult ticket price only.  Refunds for children will be given at the door. \n* All proceeds are for the Keystone Kops and are not tax deductible.
URL:https://kops.egyptshriners.org/event/kop-tober-fez-2/
LOCATION:Egypt Shrine Temple\, 5017 E Washington Street\, Tampa\, FL\, 33619\, United States
CATEGORIES:Social
ATTACH;FMTTYPE=image/png:https://kops.egyptshriners.org/wp-content/uploads/2018/03/KOP-TOBER-FEZ-1.png
ORGANIZER;CN="Keystone Kops":MAILTO:kops@egyptshriners.org
END:VEVENT
BEGIN:VEVENT
DTSTART;TZID=America/New_York:20220918T130000
DTEND;TZID=America/New_York:20220918T150000
DTSTAMP:20260420T090029
CREATED:20220313T220752Z
LAST-MODIFIED:20220313T221125Z
UID:10053-1663506000-1663513200@kops.egyptshriners.org
SUMMARY:Kops Monthly Family Social
DESCRIPTION:
URL:https://kops.egyptshriners.org/event/kops-monthly-family-social-38/
LOCATION:Egypt Shrine Temple\, 5017 E Washington Street\, Tampa\, FL\, 33619\, United States
CATEGORIES:Social
ATTACH;FMTTYPE=image/jpeg:https://kops.egyptshriners.org/wp-content/uploads/2021/07/Keystone-Kops-social.jpg
ORGANIZER;CN="Keystone Kops":MAILTO:kops@egyptshriners.org
END:VEVENT
BEGIN:VEVENT
DTSTART;TZID=America/New_York:20220901T193000
DTEND;TZID=America/New_York:20220901T210000
DTSTAMP:20260420T090029
CREATED:20220313T220626Z
LAST-MODIFIED:20220313T221438Z
UID:10039-1662060600-1662066000@kops.egyptshriners.org
SUMMARY:Unit Meeting
DESCRIPTION:
URL:https://kops.egyptshriners.org/event/unit-meeting-46/
LOCATION:Egypt Shrine Temple\, 5017 E Washington Street\, Tampa\, FL\, 33619\, United States
CATEGORIES:Meeting
ATTACH;FMTTYPE=image/jpeg:https://kops.egyptshriners.org/wp-content/uploads/2018/02/keystonekops-scaled.jpg
ORGANIZER;CN="Keystone Kops":MAILTO:kops@egyptshriners.org
END:VEVENT
BEGIN:VEVENT
DTSTART;TZID=America/New_York:20220821T130000
DTEND;TZID=America/New_York:20220821T150000
DTSTAMP:20260420T090029
CREATED:20220313T220752Z
LAST-MODIFIED:20220808T030119Z
UID:10052-1661086800-1661094000@kops.egyptshriners.org
SUMMARY:Kops Monthly Family Social
DESCRIPTION:We have made arrangements with the Palm River Oasis to provide all the food for our Kops Monthly Family Social whereby the PRO will create a short menu of choices and the Unit will pick up the tab. \nMore details to come as we get closer.
URL:https://kops.egyptshriners.org/event/kops-monthly-family-social-37/
LOCATION:Egypt Shrine Temple\, 5017 E Washington Street\, Tampa\, FL\, 33619\, United States
CATEGORIES:Social
ATTACH;FMTTYPE=image/jpeg:https://kops.egyptshriners.org/wp-content/uploads/2021/07/Keystone-Kops-social.jpg
ORGANIZER;CN="Keystone Kops":MAILTO:kops@egyptshriners.org
END:VEVENT
BEGIN:VEVENT
DTSTART;TZID=America/New_York:20220804T193000
DTEND;TZID=America/New_York:20220804T210000
DTSTAMP:20260420T090029
CREATED:20220313T220626Z
LAST-MODIFIED:20220313T221429Z
UID:10038-1659641400-1659646800@kops.egyptshriners.org
SUMMARY:Unit Meeting
DESCRIPTION:
URL:https://kops.egyptshriners.org/event/unit-meeting-45/
LOCATION:Egypt Shrine Temple\, 5017 E Washington Street\, Tampa\, FL\, 33619\, United States
CATEGORIES:Meeting
ATTACH;FMTTYPE=image/jpeg:https://kops.egyptshriners.org/wp-content/uploads/2018/02/keystonekops-scaled.jpg
ORGANIZER;CN="Keystone Kops":MAILTO:kops@egyptshriners.org
END:VEVENT
BEGIN:VEVENT
DTSTART;TZID=America/New_York:20220717T130000
DTEND;TZID=America/New_York:20220717T150000
DTSTAMP:20260420T090029
CREATED:20220313T220716Z
LAST-MODIFIED:20220716T174121Z
UID:10049-1658062800-1658070000@kops.egyptshriners.org
SUMMARY:Kops Monthly Family Social
DESCRIPTION:
URL:https://kops.egyptshriners.org/event/kops-monthly-family-social-36/
LOCATION:Egypt Shrine Temple\, 5017 E Washington Street\, Tampa\, FL\, 33619\, United States
CATEGORIES:Social
ATTACH;FMTTYPE=image/jpeg:https://kops.egyptshriners.org/wp-content/uploads/2021/07/Keystone-Kops-social.jpg
ORGANIZER;CN="Keystone Kops":MAILTO:kops@egyptshriners.org
END:VEVENT
BEGIN:VEVENT
DTSTART;TZID=America/New_York:20220707T193000
DTEND;TZID=America/New_York:20220707T210000
DTSTAMP:20260420T090029
CREATED:20220313T220412Z
LAST-MODIFIED:20220313T221408Z
UID:10035-1657222200-1657227600@kops.egyptshriners.org
SUMMARY:Unit Meeting
DESCRIPTION:
URL:https://kops.egyptshriners.org/event/unit-meeting-44/
LOCATION:Egypt Shrine Temple\, 5017 E Washington Street\, Tampa\, FL\, 33619\, United States
CATEGORIES:Meeting
ATTACH;FMTTYPE=image/jpeg:https://kops.egyptshriners.org/wp-content/uploads/2018/02/keystonekops-scaled.jpg
ORGANIZER;CN="Keystone Kops":MAILTO:kops@egyptshriners.org
END:VEVENT
BEGIN:VEVENT
DTSTART;TZID=America/New_York:20220619T130000
DTEND;TZID=America/New_York:20220619T150000
DTSTAMP:20260420T090029
CREATED:20220313T220716Z
LAST-MODIFIED:20220313T221041Z
UID:10048-1655643600-1655650800@kops.egyptshriners.org
SUMMARY:Kops Monthly Family Social
DESCRIPTION:
URL:https://kops.egyptshriners.org/event/kops-monthly-family-social-35/
LOCATION:Egypt Shrine Temple\, 5017 E Washington Street\, Tampa\, FL\, 33619\, United States
CATEGORIES:Social
ATTACH;FMTTYPE=image/jpeg:https://kops.egyptshriners.org/wp-content/uploads/2021/07/Keystone-Kops-social.jpg
ORGANIZER;CN="Keystone Kops":MAILTO:kops@egyptshriners.org
END:VEVENT
BEGIN:VEVENT
DTSTART;TZID=America/New_York:20220602T193000
DTEND;TZID=America/New_York:20220602T210000
DTSTAMP:20260420T090029
CREATED:20220313T220411Z
LAST-MODIFIED:20220313T221359Z
UID:10034-1654198200-1654203600@kops.egyptshriners.org
SUMMARY:Unit Meeting
DESCRIPTION:
URL:https://kops.egyptshriners.org/event/unit-meeting-43/
LOCATION:Egypt Shrine Temple\, 5017 E Washington Street\, Tampa\, FL\, 33619\, United States
CATEGORIES:Meeting
ATTACH;FMTTYPE=image/jpeg:https://kops.egyptshriners.org/wp-content/uploads/2018/02/keystonekops-scaled.jpg
ORGANIZER;CN="Keystone Kops":MAILTO:kops@egyptshriners.org
END:VEVENT
BEGIN:VEVENT
DTSTART;TZID=America/New_York:20220515T130000
DTEND;TZID=America/New_York:20220515T150000
DTSTAMP:20260420T090029
CREATED:20220313T220716Z
LAST-MODIFIED:20220313T221034Z
UID:10047-1652619600-1652626800@kops.egyptshriners.org
SUMMARY:Kops Monthly Family Social
DESCRIPTION:
URL:https://kops.egyptshriners.org/event/kops-monthly-family-social-34/
LOCATION:Egypt Shrine Temple\, 5017 E Washington Street\, Tampa\, FL\, 33619\, United States
CATEGORIES:Social
ATTACH;FMTTYPE=image/jpeg:https://kops.egyptshriners.org/wp-content/uploads/2021/07/Keystone-Kops-social.jpg
ORGANIZER;CN="Keystone Kops":MAILTO:kops@egyptshriners.org
END:VEVENT
BEGIN:VEVENT
DTSTART;TZID=America/New_York:20220505T193000
DTEND;TZID=America/New_York:20220505T210000
DTSTAMP:20260420T090029
CREATED:20220313T220411Z
LAST-MODIFIED:20220313T221349Z
UID:10033-1651779000-1651784400@kops.egyptshriners.org
SUMMARY:Unit Meeting
DESCRIPTION:
URL:https://kops.egyptshriners.org/event/unit-meeting-42/
LOCATION:Egypt Shrine Temple\, 5017 E Washington Street\, Tampa\, FL\, 33619\, United States
CATEGORIES:Meeting
ATTACH;FMTTYPE=image/jpeg:https://kops.egyptshriners.org/wp-content/uploads/2018/02/keystonekops-scaled.jpg
ORGANIZER;CN="Keystone Kops":MAILTO:kops@egyptshriners.org
END:VEVENT
BEGIN:VEVENT
DTSTART;TZID=America/New_York:20220417T130000
DTEND;TZID=America/New_York:20220417T150000
DTSTAMP:20260420T090029
CREATED:20220313T220716Z
LAST-MODIFIED:20220313T221024Z
UID:10046-1650200400-1650207600@kops.egyptshriners.org
SUMMARY:Kops Monthly Family Social
DESCRIPTION:
URL:https://kops.egyptshriners.org/event/kops-monthly-family-social-33/
LOCATION:Egypt Shrine Temple\, 5017 E Washington Street\, Tampa\, FL\, 33619\, United States
CATEGORIES:Social
ATTACH;FMTTYPE=image/jpeg:https://kops.egyptshriners.org/wp-content/uploads/2021/07/Keystone-Kops-social.jpg
ORGANIZER;CN="Keystone Kops":MAILTO:kops@egyptshriners.org
END:VEVENT
BEGIN:VEVENT
DTSTART;TZID=America/New_York:20220407T193000
DTEND;TZID=America/New_York:20220407T210000
DTSTAMP:20260420T090029
CREATED:20220313T220411Z
LAST-MODIFIED:20220313T221340Z
UID:10032-1649359800-1649365200@kops.egyptshriners.org
SUMMARY:Unit Meeting
DESCRIPTION:
URL:https://kops.egyptshriners.org/event/unit-meeting-41/
LOCATION:Egypt Shrine Temple\, 5017 E Washington Street\, Tampa\, FL\, 33619\, United States
CATEGORIES:Meeting
ATTACH;FMTTYPE=image/jpeg:https://kops.egyptshriners.org/wp-content/uploads/2018/02/keystonekops-scaled.jpg
ORGANIZER;CN="Keystone Kops":MAILTO:kops@egyptshriners.org
END:VEVENT
BEGIN:VEVENT
DTSTART;TZID=America/New_York:20220320T130000
DTEND;TZID=America/New_York:20220320T150000
DTSTAMP:20260420T090029
CREATED:20220313T220715Z
LAST-MODIFIED:20220313T225157Z
UID:10045-1647781200-1647788400@kops.egyptshriners.org
SUMMARY:Kops Monthly Family Social
DESCRIPTION:
URL:https://kops.egyptshriners.org/event/kops-monthly-family-social-32/
LOCATION:Egypt Shrine Temple\, 5017 E Washington Street\, Tampa\, FL\, 33619\, United States
CATEGORIES:Social
ATTACH;FMTTYPE=image/jpeg:https://kops.egyptshriners.org/wp-content/uploads/2021/07/Keystone-Kops-social.jpg
ORGANIZER;CN="Keystone Kops":MAILTO:kops@egyptshriners.org
END:VEVENT
BEGIN:VEVENT
DTSTART;TZID=America/New_York:20220303T193000
DTEND;TZID=America/New_York:20220303T210000
DTSTAMP:20260420T090029
CREATED:20220313T220411Z
LAST-MODIFIED:20220313T221320Z
UID:10031-1646335800-1646341200@kops.egyptshriners.org
SUMMARY:Unit Meeting
DESCRIPTION:
URL:https://kops.egyptshriners.org/event/unit-meeting-40/
LOCATION:Egypt Shrine Temple\, 5017 E Washington Street\, Tampa\, FL\, 33619\, United States
CATEGORIES:Meeting
ATTACH;FMTTYPE=image/jpeg:https://kops.egyptshriners.org/wp-content/uploads/2018/02/keystonekops-scaled.jpg
ORGANIZER;CN="Keystone Kops":MAILTO:kops@egyptshriners.org
END:VEVENT
BEGIN:VEVENT
DTSTART;TZID=America/New_York:20211212T180000
DTEND;TZID=America/New_York:20211212T220000
DTSTAMP:20260420T090029
CREATED:20211007T230017Z
LAST-MODIFIED:20211009T020619Z
UID:9780-1639332000-1639346400@kops.egyptshriners.org
SUMMARY:Christmas Party
DESCRIPTION:
URL:https://kops.egyptshriners.org/event/christmas-party-3/
LOCATION:Egypt Shrine Temple\, 5017 E Washington Street\, Tampa\, FL\, 33619\, United States
CATEGORIES:Party,Social
ATTACH;FMTTYPE=image/jpeg:https://kops.egyptshriners.org/wp-content/uploads/2021/10/santajail.jpeg
ORGANIZER;CN="Keystone Kops":MAILTO:kops@egyptshriners.org
END:VEVENT
BEGIN:VEVENT
DTSTART;TZID=America/New_York:20211202T193000
DTEND;TZID=America/New_York:20211202T210000
DTSTAMP:20260420T090029
CREATED:20201106T164517Z
LAST-MODIFIED:20210312T124331Z
UID:9096-1638473400-1638478800@kops.egyptshriners.org
SUMMARY:Unit Meeting
DESCRIPTION:
URL:https://kops.egyptshriners.org/event/unit-meeting-39/
LOCATION:Egypt Shrine Temple\, 5017 E Washington Street\, Tampa\, FL\, 33619\, United States
CATEGORIES:Meeting
ATTACH;FMTTYPE=image/png:https://kops.egyptshriners.org/wp-content/uploads/2018/09/Kops-Badge-150x150.png
ORGANIZER;CN="Keystone Kops":MAILTO:kops@egyptshriners.org
END:VEVENT
BEGIN:VEVENT
DTSTART;TZID=America/New_York:20211104T193000
DTEND;TZID=America/New_York:20211104T210000
DTSTAMP:20260420T090029
CREATED:20201106T164516Z
LAST-MODIFIED:20210312T124321Z
UID:9095-1636054200-1636059600@kops.egyptshriners.org
SUMMARY:Unit Meeting
DESCRIPTION:
URL:https://kops.egyptshriners.org/event/unit-meeting-38/
LOCATION:Egypt Shrine Temple\, 5017 E Washington Street\, Tampa\, FL\, 33619\, United States
CATEGORIES:Meeting
ATTACH;FMTTYPE=image/png:https://kops.egyptshriners.org/wp-content/uploads/2018/09/Kops-Badge-150x150.png
ORGANIZER;CN="Keystone Kops":MAILTO:kops@egyptshriners.org
END:VEVENT
BEGIN:VEVENT
DTSTART;TZID=America/New_York:20211017T130000
DTEND;TZID=America/New_York:20211017T150000
DTSTAMP:20260420T090029
CREATED:20201106T164529Z
LAST-MODIFIED:20210715T145846Z
UID:9106-1634475600-1634482800@kops.egyptshriners.org
SUMMARY:Kops Monthly Family Social
DESCRIPTION:
URL:https://kops.egyptshriners.org/event/kops-monthly-family-social-30/
LOCATION:Keystone Kops Unit Room\, 5017 E Washington Street\, Tampa\, FL\, 33619\, United States
CATEGORIES:Social
ATTACH;FMTTYPE=image/jpeg:https://kops.egyptshriners.org/wp-content/uploads/2021/07/Keystone-Kops-social.jpg
ORGANIZER;CN="Keystone Kops":MAILTO:kops@egyptshriners.org
END:VEVENT
BEGIN:VEVENT
DTSTART;TZID=America/New_York:20211007T193000
DTEND;TZID=America/New_York:20211007T210000
DTSTAMP:20260420T090029
CREATED:20201106T164514Z
LAST-MODIFIED:20210312T125825Z
UID:9094-1633635000-1633640400@kops.egyptshriners.org
SUMMARY:Unit Meeting
DESCRIPTION:
URL:https://kops.egyptshriners.org/event/unit-meeting-37/
LOCATION:Egypt Shrine Temple\, 5017 E Washington Street\, Tampa\, FL\, 33619\, United States
CATEGORIES:Meeting
ATTACH;FMTTYPE=image/png:https://kops.egyptshriners.org/wp-content/uploads/2018/09/Kops-Badge-150x150.png
ORGANIZER;CN="Keystone Kops":MAILTO:kops@egyptshriners.org
END:VEVENT
END:VCALENDAR