BEGIN:VCALENDAR
VERSION:2.0
PRODID:-//Keystone Kops - ECPv6.15.20//NONSGML v1.0//EN
CALSCALE:GREGORIAN
METHOD:PUBLISH
X-WR-CALNAME:Keystone Kops
X-ORIGINAL-URL:https://kops.egyptshriners.org
X-WR-CALDESC:Events for Keystone Kops
REFRESH-INTERVAL;VALUE=DURATION:PT1H
X-Robots-Tag:noindex
X-PUBLISHED-TTL:PT1H
BEGIN:VTIMEZONE
TZID:America/Halifax
BEGIN:DAYLIGHT
TZOFFSETFROM:-0400
TZOFFSETTO:-0300
TZNAME:ADT
DTSTART:20170312T060000
END:DAYLIGHT
BEGIN:STANDARD
TZOFFSETFROM:-0300
TZOFFSETTO:-0400
TZNAME:AST
DTSTART:20171105T050000
END:STANDARD
BEGIN:DAYLIGHT
TZOFFSETFROM:-0400
TZOFFSETTO:-0300
TZNAME:ADT
DTSTART:20180311T060000
END:DAYLIGHT
BEGIN:STANDARD
TZOFFSETFROM:-0300
TZOFFSETTO:-0400
TZNAME:AST
DTSTART:20181104T050000
END:STANDARD
BEGIN:DAYLIGHT
TZOFFSETFROM:-0400
TZOFFSETTO:-0300
TZNAME:ADT
DTSTART:20190310T060000
END:DAYLIGHT
BEGIN:STANDARD
TZOFFSETFROM:-0300
TZOFFSETTO:-0400
TZNAME:AST
DTSTART:20191103T050000
END:STANDARD
BEGIN:DAYLIGHT
TZOFFSETFROM:-0400
TZOFFSETTO:-0300
TZNAME:ADT
DTSTART:20200308T060000
END:DAYLIGHT
BEGIN:STANDARD
TZOFFSETFROM:-0300
TZOFFSETTO:-0400
TZNAME:AST
DTSTART:20201101T050000
END:STANDARD
END:VTIMEZONE
BEGIN:VTIMEZONE
TZID:America/New_York
BEGIN:DAYLIGHT
TZOFFSETFROM:-0500
TZOFFSETTO:-0400
TZNAME:EDT
DTSTART:20170312T070000
END:DAYLIGHT
BEGIN:STANDARD
TZOFFSETFROM:-0400
TZOFFSETTO:-0500
TZNAME:EST
DTSTART:20171105T060000
END:STANDARD
BEGIN:DAYLIGHT
TZOFFSETFROM:-0500
TZOFFSETTO:-0400
TZNAME:EDT
DTSTART:20180311T070000
END:DAYLIGHT
BEGIN:STANDARD
TZOFFSETFROM:-0400
TZOFFSETTO:-0500
TZNAME:EST
DTSTART:20181104T060000
END:STANDARD
BEGIN:DAYLIGHT
TZOFFSETFROM:-0500
TZOFFSETTO:-0400
TZNAME:EDT
DTSTART:20190310T070000
END:DAYLIGHT
BEGIN:STANDARD
TZOFFSETFROM:-0400
TZOFFSETTO:-0500
TZNAME:EST
DTSTART:20191103T060000
END:STANDARD
END:VTIMEZONE
BEGIN:VEVENT
DTSTART;TZID=America/Halifax:20190721T130000
DTEND;TZID=America/Halifax:20190721T150000
DTSTAMP:20260420T184909
CREATED:20190104T160944Z
LAST-MODIFIED:20190104T160944Z
UID:957-1563714000-1563721200@kops.egyptshriners.org
SUMMARY:Kops Monthly Family Social
DESCRIPTION:
URL:https://kops.egyptshriners.org/event/kops-monthly-family-social-14/
LOCATION:Keystone Kops Unit Room\, 5017 E Washington Street\, Tampa\, FL\, 33619\, United States
CATEGORIES:Social
ORGANIZER;CN="Keystone Kops":MAILTO:kops@egyptshriners.org
END:VEVENT
BEGIN:VEVENT
DTSTART;TZID=America/Halifax:20190704T193000
DTEND;TZID=America/Halifax:20190704T213000
DTSTAMP:20260420T184909
CREATED:20190104T160937Z
LAST-MODIFIED:20190104T160937Z
UID:944-1562268600-1562275800@kops.egyptshriners.org
SUMMARY:Unit Meeting
DESCRIPTION:
URL:https://kops.egyptshriners.org/event/unit-meeting-18/
LOCATION:Keystone Kops Unit Room\, 5017 E Washington Street\, Tampa\, FL\, 33619\, United States
CATEGORIES:Meeting
ORGANIZER;CN="Keystone Kops":MAILTO:kops@egyptshriners.org
END:VEVENT
BEGIN:VEVENT
DTSTART;TZID=America/Halifax:20190616T130000
DTEND;TZID=America/Halifax:20190616T150000
DTSTAMP:20260420T184909
CREATED:20190104T160944Z
LAST-MODIFIED:20190104T160944Z
UID:956-1560690000-1560697200@kops.egyptshriners.org
SUMMARY:Kops Monthly Family Social
DESCRIPTION:
URL:https://kops.egyptshriners.org/event/kops-monthly-family-social-13/
LOCATION:Keystone Kops Unit Room\, 5017 E Washington Street\, Tampa\, FL\, 33619\, United States
CATEGORIES:Social
ORGANIZER;CN="Keystone Kops":MAILTO:kops@egyptshriners.org
END:VEVENT
BEGIN:VEVENT
DTSTART;TZID=America/Halifax:20190606T193000
DTEND;TZID=America/Halifax:20190606T213000
DTSTAMP:20260420T184909
CREATED:20190104T160937Z
LAST-MODIFIED:20190104T160937Z
UID:943-1559849400-1559856600@kops.egyptshriners.org
SUMMARY:Unit Meeting
DESCRIPTION:
URL:https://kops.egyptshriners.org/event/unit-meeting-17/
LOCATION:Keystone Kops Unit Room\, 5017 E Washington Street\, Tampa\, FL\, 33619\, United States
CATEGORIES:Meeting
ORGANIZER;CN="Keystone Kops":MAILTO:kops@egyptshriners.org
END:VEVENT
BEGIN:VEVENT
DTSTART;TZID=America/Halifax:20190519T130000
DTEND;TZID=America/Halifax:20190519T170000
DTSTAMP:20260420T184909
CREATED:20190104T160944Z
LAST-MODIFIED:20190418T134051Z
UID:955-1558270800-1558285200@kops.egyptshriners.org
SUMMARY:Kops Social Spaghetti Fund Raiser
DESCRIPTION:Adults $10 donation\nKids eat free
URL:https://kops.egyptshriners.org/event/kops-monthly-family-social-12/
LOCATION:Keystone Kops Unit Room\, 5017 E Washington Street\, Tampa\, FL\, 33619\, United States
CATEGORIES:Social
ORGANIZER;CN="Keystone Kops":MAILTO:kops@egyptshriners.org
END:VEVENT
BEGIN:VEVENT
DTSTART;TZID=America/Halifax:20190502T193000
DTEND;TZID=America/Halifax:20190502T213000
DTSTAMP:20260420T184910
CREATED:20190104T160933Z
LAST-MODIFIED:20190104T160933Z
UID:942-1556825400-1556832600@kops.egyptshriners.org
SUMMARY:Unit Meeting
DESCRIPTION:
URL:https://kops.egyptshriners.org/event/unit-meeting-16/
LOCATION:Keystone Kops Unit Room\, 5017 E Washington Street\, Tampa\, FL\, 33619\, United States
CATEGORIES:Meeting
ORGANIZER;CN="Keystone Kops":MAILTO:kops@egyptshriners.org
END:VEVENT
BEGIN:VEVENT
DTSTART;TZID=America/Halifax:20190421T130000
DTEND;TZID=America/Halifax:20190421T150000
DTSTAMP:20260420T184910
CREATED:20190104T160944Z
LAST-MODIFIED:20190104T160944Z
UID:954-1555851600-1555858800@kops.egyptshriners.org
SUMMARY:Kops Monthly Family Social
DESCRIPTION:
URL:https://kops.egyptshriners.org/event/kops-monthly-family-social-11/
LOCATION:Keystone Kops Unit Room\, 5017 E Washington Street\, Tampa\, FL\, 33619\, United States
CATEGORIES:Social
ORGANIZER;CN="Keystone Kops":MAILTO:kops@egyptshriners.org
END:VEVENT
BEGIN:VEVENT
DTSTART;TZID=America/Halifax:20190404T193000
DTEND;TZID=America/Halifax:20190404T213000
DTSTAMP:20260420T184910
CREATED:20190104T160933Z
LAST-MODIFIED:20190104T160933Z
UID:941-1554406200-1554413400@kops.egyptshriners.org
SUMMARY:Unit Meeting
DESCRIPTION:
URL:https://kops.egyptshriners.org/event/unit-meeting-15/
LOCATION:Keystone Kops Unit Room\, 5017 E Washington Street\, Tampa\, FL\, 33619\, United States
CATEGORIES:Meeting
ORGANIZER;CN="Keystone Kops":MAILTO:kops@egyptshriners.org
END:VEVENT
BEGIN:VEVENT
DTSTART;TZID=America/Halifax:20190317T130000
DTEND;TZID=America/Halifax:20190317T150000
DTSTAMP:20260420T184910
CREATED:20190104T160943Z
LAST-MODIFIED:20190104T160943Z
UID:953-1552827600-1552834800@kops.egyptshriners.org
SUMMARY:Kops Monthly Family Social
DESCRIPTION:
URL:https://kops.egyptshriners.org/event/kops-monthly-family-social-10/
LOCATION:Keystone Kops Unit Room\, 5017 E Washington Street\, Tampa\, FL\, 33619\, United States
CATEGORIES:Social
ORGANIZER;CN="Keystone Kops":MAILTO:kops@egyptshriners.org
END:VEVENT
BEGIN:VEVENT
DTSTART;TZID=America/Halifax:20190307T193000
DTEND;TZID=America/Halifax:20190307T213000
DTSTAMP:20260420T184910
CREATED:20190104T160933Z
LAST-MODIFIED:20190104T160933Z
UID:940-1551987000-1551994200@kops.egyptshriners.org
SUMMARY:Unit Meeting
DESCRIPTION:
URL:https://kops.egyptshriners.org/event/unit-meeting-14/
LOCATION:Keystone Kops Unit Room\, 5017 E Washington Street\, Tampa\, FL\, 33619\, United States
CATEGORIES:Meeting
ORGANIZER;CN="Keystone Kops":MAILTO:kops@egyptshriners.org
END:VEVENT
BEGIN:VEVENT
DTSTART;TZID=America/Halifax:20190217T130000
DTEND;TZID=America/Halifax:20190217T150000
DTSTAMP:20260420T184910
CREATED:20190104T160942Z
LAST-MODIFIED:20190213T222514Z
UID:952-1550408400-1550415600@kops.egyptshriners.org
SUMMARY:Kops Monthly Family Social
DESCRIPTION:
URL:https://kops.egyptshriners.org/event/kops-monthly-family-social-8/
LOCATION:Keystone Kops Unit Room\, 5017 E Washington Street\, Tampa\, FL\, 33619\, United States
CATEGORIES:Social
ORGANIZER;CN="Keystone Kops":MAILTO:kops@egyptshriners.org
END:VEVENT
BEGIN:VEVENT
DTSTART;TZID=America/Halifax:20190207T193000
DTEND;TZID=America/Halifax:20190207T213000
DTSTAMP:20260420T184910
CREATED:20190104T160933Z
LAST-MODIFIED:20190104T160933Z
UID:939-1549567800-1549575000@kops.egyptshriners.org
SUMMARY:Unit Meeting
DESCRIPTION:
URL:https://kops.egyptshriners.org/event/unit-meeting-9/
LOCATION:Keystone Kops Unit Room\, 5017 E Washington Street\, Tampa\, FL\, 33619\, United States
CATEGORIES:Meeting
ORGANIZER;CN="Keystone Kops":MAILTO:kops@egyptshriners.org
END:VEVENT
BEGIN:VEVENT
DTSTART;TZID=America/Halifax:20190119T150000
DTEND;TZID=America/Halifax:20190119T200000
DTSTAMP:20260420T184910
CREATED:20190104T160950Z
LAST-MODIFIED:20190104T160950Z
UID:970-1547910000-1547928000@kops.egyptshriners.org
SUMMARY:East /West Shrine Game
DESCRIPTION:
URL:https://kops.egyptshriners.org/event/east-west-shrine-game/
LOCATION:Tropicana Field\, One Tropicana Drive\, St. Petersburg\, FL\, 33705\, United States
CATEGORIES:Party
ORGANIZER;CN="Shriners International":MAILTO:marketing@shrinenet.org
END:VEVENT
BEGIN:VEVENT
DTSTART;TZID=America/Halifax:20190119T110000
DTEND;TZID=America/Halifax:20190119T150000
DTSTAMP:20260420T184910
CREATED:20190104T160942Z
LAST-MODIFIED:20190104T160942Z
UID:951-1547895600-1547910000@kops.egyptshriners.org
SUMMARY:Kops Monthly Family Social & Tailgate Party
DESCRIPTION:
URL:https://kops.egyptshriners.org/event/kops-monthly-family-social-tailgate-party/
LOCATION:Tropicana Field\, One Tropicana Drive\, St. Petersburg\, FL\, 33705\, United States
CATEGORIES:Party
ORGANIZER;CN="Keystone Kops":MAILTO:kops@egyptshriners.org
END:VEVENT
BEGIN:VEVENT
DTSTART;TZID=America/Halifax:20190113T120000
DTEND;TZID=America/Halifax:20190113T150000
DTSTAMP:20260420T184910
CREATED:20190104T160949Z
LAST-MODIFIED:20190104T160949Z
UID:968-1547380800-1547391600@kops.egyptshriners.org
SUMMARY:East/West Players Hospital Visit
DESCRIPTION:
URL:https://kops.egyptshriners.org/event/east-west-players-hospital-visit/
LOCATION:FL
CATEGORIES:Social
ORGANIZER;CN="Shriners International":MAILTO:marketing@shrinenet.org
END:VEVENT
BEGIN:VEVENT
DTSTART;TZID=America/Halifax:20190112T150000
DTEND;TZID=America/Halifax:20190112T190000
DTSTAMP:20260420T184910
CREATED:20190104T160948Z
LAST-MODIFIED:20190104T160948Z
UID:967-1547305200-1547319600@kops.egyptshriners.org
SUMMARY:Shrine Election Party
DESCRIPTION:
URL:https://kops.egyptshriners.org/event/shrine-election-party/
LOCATION:Centro Asturiano De Tampa\, 1913 N Nebraska Ave\, Tampa\, FL\, 33602\, United States
CATEGORIES:Party
ORGANIZER;CN="Egypt Shrine":MAILTO:info@egyptshrine.org
END:VEVENT
BEGIN:VEVENT
DTSTART;TZID=America/Halifax:20190112T130000
DTEND;TZID=America/Halifax:20190112T140000
DTSTAMP:20260420T184910
CREATED:20190104T160948Z
LAST-MODIFIED:20190104T160948Z
UID:966-1547298000-1547301600@kops.egyptshriners.org
SUMMARY:Shrine Public Installation
DESCRIPTION:
URL:https://kops.egyptshriners.org/event/shrine-public-installation/
LOCATION:Centro Asturiano De Tampa\, 1913 N Nebraska Ave\, Tampa\, FL\, 33602\, United States
CATEGORIES:Meeting
ORGANIZER;CN="Egypt Shrine":MAILTO:info@egyptshrine.org
END:VEVENT
BEGIN:VEVENT
DTSTART;TZID=America/Halifax:20190112T103000
DTEND;TZID=America/Halifax:20190112T123000
DTSTAMP:20260420T184910
CREATED:20190104T160948Z
LAST-MODIFIED:20190104T160948Z
UID:965-1547289000-1547296200@kops.egyptshriners.org
SUMMARY:Shrine Elections
DESCRIPTION:
URL:https://kops.egyptshriners.org/event/shrine-elections/
LOCATION:Centro Asturiano De Tampa\, 1913 N Nebraska Ave\, Tampa\, FL\, 33602\, United States
CATEGORIES:Meeting
ORGANIZER;CN="Egypt Shrine":MAILTO:info@egyptshrine.org
END:VEVENT
BEGIN:VEVENT
DTSTART;TZID=America/Halifax:20190112T090000
DTEND;TZID=America/Halifax:20190112T100000
DTSTAMP:20260420T184910
CREATED:20190104T160948Z
LAST-MODIFIED:20190104T160948Z
UID:964-1547283600-1547287200@kops.egyptshriners.org
SUMMARY:Shrine Annual Meeting
DESCRIPTION:
URL:https://kops.egyptshriners.org/event/shrine-annual-meeting/
LOCATION:Centro Asturiano De Tampa\, 1913 N Nebraska Ave\, Tampa\, FL\, 33602\, United States
CATEGORIES:Meeting
ORGANIZER;CN="Egypt Shrine":MAILTO:info@egyptshrine.org
END:VEVENT
BEGIN:VEVENT
DTSTART;TZID=America/Halifax:20190103T193000
DTEND;TZID=America/Halifax:20190103T213000
DTSTAMP:20260420T184910
CREATED:20190104T160933Z
LAST-MODIFIED:20190104T160933Z
UID:938-1546543800-1546551000@kops.egyptshriners.org
SUMMARY:Unit Meeting
DESCRIPTION:
URL:https://kops.egyptshriners.org/event/unit-meeting-8/
LOCATION:Keystone Kops Unit Room\, 5017 E Washington Street\, Tampa\, FL\, 33619\, United States
CATEGORIES:Meeting
ORGANIZER;CN="Keystone Kops":MAILTO:kops@egyptshriners.org
END:VEVENT
BEGIN:VEVENT
DTSTART;TZID=America/Halifax:20181215T180000
DTEND;TZID=America/Halifax:20181215T220000
DTSTAMP:20260420T184910
CREATED:20181207T154756Z
LAST-MODIFIED:20181207T154756Z
UID:839-1544896800-1544911200@kops.egyptshriners.org
SUMMARY:Christmas Party
DESCRIPTION:
URL:https://kops.egyptshriners.org/event/christmas-party/
LOCATION:FL
CATEGORIES:Party
END:VEVENT
BEGIN:VEVENT
DTSTART;TZID=America/New_York:20181206T193000
DTEND;TZID=America/New_York:20181206T210000
DTSTAMP:20260420T184910
CREATED:20180301T184324Z
LAST-MODIFIED:20180914T171738Z
UID:367-1544124600-1544130000@kops.egyptshriners.org
SUMMARY:Unit Meeting
DESCRIPTION:
URL:https://kops.egyptshriners.org/event/unit-meeting-11/
LOCATION:Keystone Kops Unit Room\, 5017 E Washington Street\, Tampa\, FL\, 33619\, United States
CATEGORIES:Meeting
ORGANIZER;CN="Keystone Kops":MAILTO:kops@egyptshriners.org
END:VEVENT
BEGIN:VEVENT
DTSTART;TZID=America/New_York:20181118T130000
DTEND;TZID=America/New_York:20181118T150000
DTSTAMP:20260420T184910
CREATED:20180301T183643Z
LAST-MODIFIED:20180807T214246Z
UID:338-1542546000-1542553200@kops.egyptshriners.org
SUMMARY:Kops Monthly Family Social
DESCRIPTION:
URL:https://kops.egyptshriners.org/event/kops-monthly-family-social-9/
LOCATION:Keystone Kops Unit Room\, 5017 E Washington Street\, Tampa\, FL\, 33619\, United States
CATEGORIES:Social
ORGANIZER;CN="Keystone Kops":MAILTO:kops@egyptshriners.org
END:VEVENT
BEGIN:VEVENT
DTSTART;TZID=America/New_York:20181101T193000
DTEND;TZID=America/New_York:20181101T210000
DTSTAMP:20260420T184910
CREATED:20180301T184342Z
LAST-MODIFIED:20180807T214716Z
UID:360-1541100600-1541106000@kops.egyptshriners.org
SUMMARY:Unit Meeting
DESCRIPTION:
URL:https://kops.egyptshriners.org/event/unit-meeting-12/
LOCATION:Keystone Kops Unit Room\, 5017 E Washington Street\, Tampa\, FL\, 33619\, United States
CATEGORIES:Meeting
ORGANIZER;CN="Keystone Kops":MAILTO:kops@egyptshriners.org
END:VEVENT
BEGIN:VEVENT
DTSTART;TZID=America/New_York:20181021T130000
DTEND;TZID=America/New_York:20181021T170000
DTSTAMP:20260420T184910
CREATED:20180301T183621Z
LAST-MODIFIED:20181021T183045Z
UID:339-1540126800-1540141200@kops.egyptshriners.org
SUMMARY:KOP-TOBER-FEZ !
DESCRIPTION:Come to celebrate Family-Day with the Egypt Shrine Keystone Kops’ Kop-Tober-Fez. \nOnly $ 15.00 per adult. $ 7.00 for children 8-14 years old\, and children under 8 FREE !! \nWe will be serving Grilled Chicken and Bratwurst/Sausage – grilled onsite over our firebrick grill & BBQ pit. Includes all the sides\, Kops Ladies Devine Desserts\, and beverages (Water\, Iced Tea\, Lemonade\, Soda\, Beer). \nWe will have games for the kids\, door prizes\, and a 50/50 raffle. \n* Online orders will charge adult ticket price only.  Refunds for children will be given at the door. \n*All proceeds are for the Keystone Kops and are not tax deductible.
URL:https://kops.egyptshriners.org/event/koptoberfez/
LOCATION:Keystone Kops Unit Room\, 5017 E Washington Street\, Tampa\, FL\, 33619\, United States
CATEGORIES:Social
ATTACH;FMTTYPE=image/png:https://kops.egyptshriners.org/wp-content/uploads/2018/03/KOP-TOBER-FEZ-1.png
ORGANIZER;CN="Keystone Kops":MAILTO:kops@egyptshriners.org
END:VEVENT
BEGIN:VEVENT
DTSTART;TZID=America/New_York:20181004T193000
DTEND;TZID=America/New_York:20181004T210000
DTSTAMP:20260420T184910
CREATED:20180301T184246Z
LAST-MODIFIED:20180914T171803Z
UID:359-1538681400-1538686800@kops.egyptshriners.org
SUMMARY:Unit Meeting
DESCRIPTION:
URL:https://kops.egyptshriners.org/event/unit-meeting-10/
LOCATION:Keystone Kops Unit Room\, 5017 E Washington Street\, Tampa\, FL\, 33619\, United States
CATEGORIES:Meeting
ORGANIZER;CN="Keystone Kops":MAILTO:kops@egyptshriners.org
END:VEVENT
BEGIN:VEVENT
DTSTART;TZID=America/New_York:20180916T130000
DTEND;TZID=America/New_York:20180916T150000
DTSTAMP:20260420T184910
CREATED:20180301T183521Z
LAST-MODIFIED:20180807T214224Z
UID:340-1537102800-1537110000@kops.egyptshriners.org
SUMMARY:Kops Monthly Family Social
DESCRIPTION:
URL:https://kops.egyptshriners.org/event/kops-monthly-family-social-7/
LOCATION:Keystone Kops Unit Room\, 5017 E Washington Street\, Tampa\, FL\, 33619\, United States
CATEGORIES:Social
ORGANIZER;CN="Keystone Kops":MAILTO:kops@egyptshriners.org
END:VEVENT
BEGIN:VEVENT
DTSTART;TZID=America/New_York:20180906T193000
DTEND;TZID=America/New_York:20180906T210000
DTSTAMP:20260420T184910
CREATED:20180301T184523Z
LAST-MODIFIED:20180807T214725Z
UID:370-1536262200-1536267600@kops.egyptshriners.org
SUMMARY:Unit Meeting
DESCRIPTION:
URL:https://kops.egyptshriners.org/event/unit-meeting-13/
LOCATION:Keystone Kops Unit Room\, 5017 E Washington Street\, Tampa\, FL\, 33619\, United States
CATEGORIES:Meeting
ORGANIZER;CN="Keystone Kops":MAILTO:kops@egyptshriners.org
END:VEVENT
BEGIN:VEVENT
DTSTART;TZID=America/New_York:20180819T130000
DTEND;TZID=America/New_York:20180819T150000
DTSTAMP:20260420T184910
CREATED:20180301T183458Z
LAST-MODIFIED:20180807T214214Z
UID:341-1534683600-1534690800@kops.egyptshriners.org
SUMMARY:Kops Monthly Family Social
DESCRIPTION:
URL:https://kops.egyptshriners.org/event/kops-monthly-family-social-6/
LOCATION:Keystone Kops Unit Room\, 5017 E Washington Street\, Tampa\, FL\, 33619\, United States
CATEGORIES:Social
ORGANIZER;CN="Keystone Kops":MAILTO:kops@egyptshriners.org
END:VEVENT
BEGIN:VEVENT
DTSTART;TZID=America/New_York:20180802T190000
DTEND;TZID=America/New_York:20180802T210000
DTSTAMP:20260420T184910
CREATED:20180301T184136Z
LAST-MODIFIED:20180301T184136Z
UID:356-1533236400-1533243600@kops.egyptshriners.org
SUMMARY:Unit Meeting
DESCRIPTION:
URL:https://kops.egyptshriners.org/event/unit-meeting-7/
LOCATION:Keystone Kops Unit Room\, 5017 E Washington Street\, Tampa\, FL\, 33619\, United States
CATEGORIES:Meeting
ORGANIZER;CN="Keystone Kops":MAILTO:kops@egyptshriners.org
END:VEVENT
END:VCALENDAR